BEGIN:VCALENDAR
VERSION:2.0
PRODID:-//UiT//iKnowBase//NO
CALSCALE:GREGORIAN
METHOD:PUBLISH
BEGIN:VEVENT
SUMMARY:Workshop om identitetsutforskning gjennom bevegelige ...
UID:1776610798166-838853@uit.no
SEQUENCE:0
STATUS:CONFIRMED
TRANSP:OPAQUE
DTSTART:20240515T090000
DTEND:20240517T160000
DTSTAMP:20240517T160000
ORGANIZER;CN=UiT:MAILTO:fuziza@yahoo.com
LOCATION:https://www.eugloh.eu/events/exploring-the-self-through-m...
DESCRIPTION:Digitalt
BEGIN:VALARM
TRIGGER:-PT15M
REPEAT:1
DURATION:PT15M
ACTION:DISPLAY
DESCRIPTION:Reminder
END:VALARM
END:VEVENT
END:VCALENDAR
