BEGIN:VCALENDAR
VERSION:2.0
PRODID:-//UiT//iKnowBase//NO
CALSCALE:GREGORIAN
METHOD:PUBLISH
BEGIN:VEVENT
SUMMARY:Kurs om å utvikle finansiell kompetanse innen ...
UID:1776607087214-836572@uit.no
SEQUENCE:0
STATUS:CONFIRMED
TRANSP:OPAQUE
DTSTART:20241015T090000
DTEND:20241016T150000
DTSTAMP:20241016T150000
ORGANIZER;CN=UiT:MAILTO:natasa.hrabovski@uns.ac.rs
LOCATION:https://www.eugloh.eu/events/financial-literacy-in-health...
DESCRIPTION:Digitalt
BEGIN:VALARM
TRIGGER:-PT15M
REPEAT:1
DURATION:PT15M
ACTION:DISPLAY
DESCRIPTION:Reminder
END:VALARM
END:VEVENT
END:VCALENDAR
