BEGIN:VCALENDAR
VERSION:2.0
PRODID:-//UiT//iKnowBase//NO
CALSCALE:GREGORIAN
METHOD:PUBLISH
BEGIN:VEVENT
SUMMARY:Voices of Women in the Arctic and beyond: Hva ville ...
UID:1777034324373-829197@uit.no
SEQUENCE:0
STATUS:CONFIRMED
TRANSP:OPAQUE
DTSTART:20231121T180000
DTEND:20231121T200000
DTSTAMP:20231121T200000
ORGANIZER;CN=UiT:MAILTO:lilli.mittner@uit.no
LOCATION:https://uit.no/go/target/829197
DESCRIPTION:Troms&oslash;
BEGIN:VALARM
TRIGGER:-PT15M
REPEAT:1
DURATION:PT15M
ACTION:DISPLAY
DESCRIPTION:Reminder
END:VALARM
END:VEVENT
END:VCALENDAR
