BEGIN:VCALENDAR
VERSION:2.0
PRODID:-//UiT//iKnowBase//NO
CALSCALE:GREGORIAN
METHOD:PUBLISH
BEGIN:VEVENT
SUMMARY:Forskningsdagene (Åpent lunsjforedrag): EvoCave - ...
UID:1777172460787-825018@uit.no
SEQUENCE:0
STATUS:CONFIRMED
TRANSP:OPAQUE
DTSTART:20230921T113000
DTEND:20230921T123000
DTSTAMP:20230921T123000
ORGANIZER;CN=UiT:MAILTO:tine.e.bendiksen@uit.no
LOCATION:https://uit.no/go/target/825018
DESCRIPTION:Narvik
BEGIN:VALARM
TRIGGER:-PT15M
REPEAT:1
DURATION:PT15M
ACTION:DISPLAY
DESCRIPTION:Reminder
END:VALARM
END:VEVENT
END:VCALENDAR
