BEGIN:VCALENDAR
VERSION:2.0
PRODID:-//UiT//iKnowBase//NO
CALSCALE:GREGORIAN
METHOD:PUBLISH
BEGIN:VEVENT
SUMMARY:Anthropology research seminar film screenings with ...
UID:1776610772302-825000@uit.no
SEQUENCE:0
STATUS:CONFIRMED
TRANSP:OPAQUE
DTSTART:20230922T101500
DTEND:20230922T120000
DTSTAMP:20230922T120000
ORGANIZER;CN=UiT:MAILTO:peter.crawford@uit.no
LOCATION:https://uit.no/go/target/825000
DESCRIPTION:Troms&oslash;
BEGIN:VALARM
TRIGGER:-PT15M
REPEAT:1
DURATION:PT15M
ACTION:DISPLAY
DESCRIPTION:Reminder
END:VALARM
END:VEVENT
END:VCALENDAR
