BEGIN:VCALENDAR
VERSION:2.0
PRODID:-//UiT//iKnowBase//NO
CALSCALE:GREGORIAN
METHOD:PUBLISH
BEGIN:VEVENT
SUMMARY:Eksamenskonsert Daniel André Pedersen, rytmisk piano/tangent
UID:1776695594555-812950@uit.no
SEQUENCE:0
STATUS:CONFIRMED
TRANSP:OPAQUE
DTSTART:20230526T210000
DTEND:20230526T220000
DTSTAMP:20230526T220000
ORGANIZER;CN=UiT:MAILTO:silje.b.tollefsen@uit.no
LOCATION:https://uit.no/go/target/812950
DESCRIPTION:Troms&oslash;
BEGIN:VALARM
TRIGGER:-PT15M
REPEAT:1
DURATION:PT15M
ACTION:DISPLAY
DESCRIPTION:Reminder
END:VALARM
END:VEVENT
END:VCALENDAR
