BEGIN:VCALENDAR
VERSION:2.0
PRODID:-//UiT//iKnowBase//NO
CALSCALE:GREGORIAN
METHOD:PUBLISH
BEGIN:VEVENT
SUMMARY:Fornyelse av studieporteføljen: Velkommen til digitalt ...
UID:1776748777061-811295@uit.no
SEQUENCE:0
STATUS:CONFIRMED
TRANSP:OPAQUE
DTSTART:20230525T083000
DTEND:20230525T100000
DTSTAMP:20230525T100000
ORGANIZER;CN=UiT:MAILTO:oyvind.h.mikalsen@uit.no
LOCATION:https://uit.no/go/target/811295
DESCRIPTION:Digitalt
BEGIN:VALARM
TRIGGER:-PT15M
REPEAT:1
DURATION:PT15M
ACTION:DISPLAY
DESCRIPTION:Reminder
END:VALARM
END:VEVENT
END:VCALENDAR
