BEGIN:VCALENDAR
VERSION:2.0
PRODID:-//UiT//iKnowBase//NO
CALSCALE:GREGORIAN
METHOD:PUBLISH
BEGIN:VEVENT
SUMMARY:Fornyelse av studieporteføljen: Velkommen til ...
UID:1776748776987-811280@uit.no
SEQUENCE:0
STATUS:CONFIRMED
TRANSP:OPAQUE
DTSTART:20230524T130000
DTEND:20230524T150000
DTSTAMP:20230524T150000
ORGANIZER;CN=UiT:MAILTO:oyvind.h.mikalsen@uit.no
LOCATION:https://uit.no/go/target/811280
DESCRIPTION:Alta
BEGIN:VALARM
TRIGGER:-PT15M
REPEAT:1
DURATION:PT15M
ACTION:DISPLAY
DESCRIPTION:Reminder
END:VALARM
END:VEVENT
END:VCALENDAR
