BEGIN:VCALENDAR
VERSION:2.0
PRODID:-//UiT//iKnowBase//NO
CALSCALE:GREGORIAN
METHOD:PUBLISH
BEGIN:VEVENT
SUMMARY:Masterkonferansen 31. mai 2023 - Grunnskolelærerutdannin...
UID:1776748367852-811208@uit.no
SEQUENCE:0
STATUS:CONFIRMED
TRANSP:OPAQUE
DTSTART:20230531T090000
DTEND:20230531T144500
DTSTAMP:20230531T144500
ORGANIZER;CN=UiT:MAILTO:silje.sivertsvik@uit.no
LOCATION:https://uit.no/go/target/811208
DESCRIPTION:Troms&oslash;
BEGIN:VALARM
TRIGGER:-PT15M
REPEAT:1
DURATION:PT15M
ACTION:DISPLAY
DESCRIPTION:Reminder
END:VALARM
END:VEVENT
END:VCALENDAR
