BEGIN:VCALENDAR
VERSION:2.0
PRODID:-//UiT//iKnowBase//NO
CALSCALE:GREGORIAN
METHOD:PUBLISH
BEGIN:VEVENT
SUMMARY:POLAR VIN OG VITEN: HAULOUT + TALES OF JAN MAYEN
UID:1776748695844-810798@uit.no
SEQUENCE:0
STATUS:CONFIRMED
TRANSP:OPAQUE
DTSTART:20230509T180000
DTEND:20230509T193000
DTSTAMP:20230509T193000
ORGANIZER;CN=UiT:MAILTO:inger.k.bako@uit.no
LOCATION:https://uit.no/go/target/810798
DESCRIPTION:Troms&oslash;
BEGIN:VALARM
TRIGGER:-PT15M
REPEAT:1
DURATION:PT15M
ACTION:DISPLAY
DESCRIPTION:Reminder
END:VALARM
END:VEVENT
END:VCALENDAR
