BEGIN:VCALENDAR
VERSION:2.0
PRODID:-//UiT//iKnowBase//NO
CALSCALE:GREGORIAN
METHOD:PUBLISH
BEGIN:VEVENT
SUMMARY:Trial lecture - MSc in Marine and Costal Sciences ...
UID:1776748704127-810791@uit.no
SEQUENCE:0
STATUS:CONFIRMED
TRANSP:OPAQUE
DTSTART:20230516T101500
DTEND:20230516T110000
DTSTAMP:20230516T110000
ORGANIZER;CN=UiT:MAILTO:mikel.m.armendariz@uit.no
LOCATION:https://uit.no/go/target/810791
DESCRIPTION:Digitalt, Troms&oslash;
BEGIN:VALARM
TRIGGER:-PT15M
REPEAT:1
DURATION:PT15M
ACTION:DISPLAY
DESCRIPTION:Reminder
END:VALARM
END:VEVENT
END:VCALENDAR
