BEGIN:VCALENDAR
VERSION:2.0
PRODID:-//UiT//iKnowBase//NO
CALSCALE:GREGORIAN
METHOD:PUBLISH
BEGIN:VEVENT
SUMMARY:Kvalitetssystemet ved UiT 11. mai 2023 - påmeldingsfrist ...
UID:1776748693824-810663@uit.no
SEQUENCE:0
STATUS:CONFIRMED
TRANSP:OPAQUE
DTSTART:20230511T103000
DTEND:20230511T144500
DTSTAMP:20230511T144500
ORGANIZER;CN=UiT:MAILTO:ingrid.hovda.lien@uit.no
LOCATION:https://uit.no/go/target/810663
DESCRIPTION:Digitalt, Troms&oslash;
BEGIN:VALARM
TRIGGER:-PT15M
REPEAT:1
DURATION:PT15M
ACTION:DISPLAY
DESCRIPTION:Reminder
END:VALARM
END:VEVENT
END:VCALENDAR
