BEGIN:VCALENDAR
VERSION:2.0
PRODID:-//UiT//iKnowBase//NO
CALSCALE:GREGORIAN
METHOD:PUBLISH
BEGIN:VEVENT
SUMMARY:Lecture with Prof. Alison Griffiths
UID:1777089455038-810394@uit.no
SEQUENCE:0
STATUS:CONFIRMED
TRANSP:OPAQUE
DTSTART:20230609T101500
DTEND:20230609T120000
DTSTAMP:20230609T120000
ORGANIZER;CN=UiT:MAILTO:rossella.ragazzi@uit.no
LOCATION:https://uit.no/research/samforsk &amp; https://uit.no/...
DESCRIPTION:Troms&oslash;
BEGIN:VALARM
TRIGGER:-PT15M
REPEAT:1
DURATION:PT15M
ACTION:DISPLAY
DESCRIPTION:Reminder
END:VALARM
END:VEVENT
END:VCALENDAR
