BEGIN:VCALENDAR
VERSION:2.0
PRODID:-//UiT//iKnowBase//NO
CALSCALE:GREGORIAN
METHOD:PUBLISH
BEGIN:VEVENT
SUMMARY:Diversity and Inclusion in Organizational Processes ...
UID:1776748776785-810061@uit.no
SEQUENCE:0
STATUS:CONFIRMED
TRANSP:OPAQUE
DTSTART:20230619T100000
DTEND:20230619T130000
DTSTAMP:20230619T130000
ORGANIZER;CN=UiT:MAILTO:tamer.abu-alam@uit.no
LOCATION:https://inspiringtheminds.cloudearthi.com/deliverables/di...
DESCRIPTION:Digitalt, Troms&oslash;
BEGIN:VALARM
TRIGGER:-PT15M
REPEAT:1
DURATION:PT15M
ACTION:DISPLAY
DESCRIPTION:Reminder
END:VALARM
END:VEVENT
END:VCALENDAR
