BEGIN:VCALENDAR
VERSION:2.0
PRODID:-//UiT//iKnowBase//NO
CALSCALE:GREGORIAN
METHOD:PUBLISH
BEGIN:VEVENT
SUMMARY:Agility and Semantic Structures for Scaffolding Academic ...
UID:1776748368026-810059@uit.no
SEQUENCE:0
STATUS:CONFIRMED
TRANSP:OPAQUE
DTSTART:20230524T153000
DTEND:20230524T173000
DTSTAMP:20230524T173000
ORGANIZER;CN=UiT:MAILTO:tamer.abu-alam@uit.no
LOCATION:https://inspiringtheminds.cloudearthi.com/deliverables/ag...
DESCRIPTION:Digitalt
BEGIN:VALARM
TRIGGER:-PT15M
REPEAT:1
DURATION:PT15M
ACTION:DISPLAY
DESCRIPTION:Reminder
END:VALARM
END:VEVENT
END:VCALENDAR
