BEGIN:VCALENDAR
VERSION:2.0
PRODID:-//UiT//iKnowBase//NO
CALSCALE:GREGORIAN
METHOD:PUBLISH
BEGIN:VEVENT
SUMMARY:Diversity and Inclusion in Organizational Processes by ...
UID:1776748773709-810055@uit.no
SEQUENCE:0
STATUS:CONFIRMED
TRANSP:OPAQUE
DTSTART:20230509T143000
DTEND:20230509T160000
DTSTAMP:20230509T160000
ORGANIZER;CN=UiT:MAILTO:tamer.abu-alam@uit.no
LOCATION:https://inspiringtheminds.cloudearthi.com/deliverables/di...
DESCRIPTION:Digitalt
BEGIN:VALARM
TRIGGER:-PT15M
REPEAT:1
DURATION:PT15M
ACTION:DISPLAY
DESCRIPTION:Reminder
END:VALARM
END:VEVENT
END:VCALENDAR
