BEGIN:VCALENDAR
VERSION:2.0
PRODID:-//UiT//iKnowBase//NO
CALSCALE:GREGORIAN
METHOD:PUBLISH
BEGIN:VEVENT
SUMMARY:UiT miljøhumaniora #21 Living With Animals in this ...
UID:1776748705575-809780@uit.no
SEQUENCE:0
STATUS:CONFIRMED
TRANSP:OPAQUE
DTSTART:20230508T131500
DTEND:20230508T143000
DTSTAMP:20230508T143000
ORGANIZER;CN=UiT:MAILTO:filip.maric@uit.no
LOCATION:https://uit.no/go/target/809780
DESCRIPTION:Digitalt, Troms&oslash;
BEGIN:VALARM
TRIGGER:-PT15M
REPEAT:1
DURATION:PT15M
ACTION:DISPLAY
DESCRIPTION:Reminder
END:VALARM
END:VEVENT
END:VCALENDAR
