BEGIN:VCALENDAR
VERSION:2.0
PRODID:-//UiT//iKnowBase//NO
CALSCALE:GREGORIAN
METHOD:PUBLISH
BEGIN:VEVENT
SUMMARY:Den regionale forsknings- og innovasjonskonferansen ...
UID:1776748694847-809773@uit.no
SEQUENCE:0
STATUS:CONFIRMED
TRANSP:OPAQUE
DTSTART:20230509T123000
DTEND:20230510T153000
DTSTAMP:20230510T153000
ORGANIZER;CN=UiT:MAILTO:Kristina.Lindstrom@helse-nord.no
LOCATION:https://uit.no/go/target/809773
DESCRIPTION:Digitalt
BEGIN:VALARM
TRIGGER:-PT15M
REPEAT:1
DURATION:PT15M
ACTION:DISPLAY
DESCRIPTION:Reminder
END:VALARM
END:VEVENT
END:VCALENDAR
