BEGIN:VCALENDAR
VERSION:2.0
PRODID:-//UiT//iKnowBase//NO
CALSCALE:GREGORIAN
METHOD:PUBLISH
BEGIN:VEVENT
SUMMARY:Avslutning for avgangsstudentene ved bachelorutdanningen...
UID:1776748705830-809537@uit.no
SEQUENCE:0
STATUS:CONFIRMED
TRANSP:OPAQUE
DTSTART:20230615T100000
DTEND:20230615T140000
DTSTAMP:20230615T140000
ORGANIZER;CN=UiT:MAILTO:karin.falck.jacobsen@uit.no
LOCATION:https://uit.no/go/target/809537
DESCRIPTION:Troms&oslash;
BEGIN:VALARM
TRIGGER:-PT15M
REPEAT:1
DURATION:PT15M
ACTION:DISPLAY
DESCRIPTION:Reminder
END:VALARM
END:VEVENT
END:VCALENDAR
