BEGIN:VCALENDAR
VERSION:2.0
PRODID:-//UiT//iKnowBase//NO
CALSCALE:GREGORIAN
METHOD:PUBLISH
BEGIN:VEVENT
SUMMARY:Kurs i grunnleggende førstehjelp - Harstad
UID:1776748696451-809484@uit.no
SEQUENCE:0
STATUS:CONFIRMED
TRANSP:OPAQUE
DTSTART:20230607T113000
DTEND:20230607T150000
DTSTAMP:20230607T150000
ORGANIZER;CN=UiT:MAILTO:lisbeth.p.boe@uit.no
LOCATION:https://uit.no/go/target/809484
DESCRIPTION:Harstad
BEGIN:VALARM
TRIGGER:-PT15M
REPEAT:1
DURATION:PT15M
ACTION:DISPLAY
DESCRIPTION:Reminder
END:VALARM
END:VEVENT
END:VCALENDAR
