BEGIN:VCALENDAR
VERSION:2.0
PRODID:-//UiT//iKnowBase//NO
CALSCALE:GREGORIAN
METHOD:PUBLISH
BEGIN:VEVENT
SUMMARY:Den andre årlige EØS-/ trygderettskonferansen
UID:1777166348394-808972@uit.no
SEQUENCE:0
STATUS:CONFIRMED
TRANSP:OPAQUE
DTSTART:20230919T091500
DTEND:20230919T170000
DTSTAMP:20230919T170000
ORGANIZER;CN=UiT:MAILTO:martin.hennig@uit.no
LOCATION:https://uit.no/ansatte/martin.hennig
DESCRIPTION:Troms&oslash;
BEGIN:VALARM
TRIGGER:-PT15M
REPEAT:1
DURATION:PT15M
ACTION:DISPLAY
DESCRIPTION:Reminder
END:VALARM
END:VEVENT
END:VCALENDAR
