BEGIN:VCALENDAR
VERSION:2.0
PRODID:-//UiT//iKnowBase//NO
CALSCALE:GREGORIAN
METHOD:PUBLISH
BEGIN:VEVENT
SUMMARY:Øving med Campuskorpset
UID:1776748352604-808586@uit.no
SEQUENCE:0
STATUS:CONFIRMED
TRANSP:OPAQUE
DTSTART:20230418T193000
DTEND:20230516T223000
DTSTAMP:20230516T223000
ORGANIZER;CN=UiT:MAILTO:rune.sundelin@uit.no
LOCATION:https://uit.no/go/target/808586
DESCRIPTION:Alta
BEGIN:VALARM
TRIGGER:-PT15M
REPEAT:1
DURATION:PT15M
ACTION:DISPLAY
DESCRIPTION:Reminder
END:VALARM
END:VEVENT
END:VCALENDAR
