BEGIN:VCALENDAR
VERSION:2.0
PRODID:-//UiT//iKnowBase//NO
CALSCALE:GREGORIAN
METHOD:PUBLISH
BEGIN:VEVENT
SUMMARY:Hvordan oppnå god kvalitet i tilbudene til barn og unge? ...
UID:1776794781417-808483@uit.no
SEQUENCE:0
STATUS:CONFIRMED
TRANSP:OPAQUE
DTSTART:20230421T100000
DTEND:20230421T110000
DTSTAMP:20230421T110000
ORGANIZER;CN=UiT:MAILTO:anne.hartviksen@uit.no
LOCATION:https://uit.no/go/target/808483
DESCRIPTION:Digitalt
BEGIN:VALARM
TRIGGER:-PT15M
REPEAT:1
DURATION:PT15M
ACTION:DISPLAY
DESCRIPTION:Reminder
END:VALARM
END:VEVENT
END:VCALENDAR
