BEGIN:VCALENDAR
VERSION:2.0
PRODID:-//UiT//iKnowBase//NO
CALSCALE:GREGORIAN
METHOD:PUBLISH
BEGIN:VEVENT
SUMMARY:The AKM-seminar 2023
UID:1776748774388-808360@uit.no
SEQUENCE:0
STATUS:CONFIRMED
TRANSP:OPAQUE
DTSTART:20230511T090000
DTEND:20230511T150000
DTSTAMP:20230511T150000
ORGANIZER;CN=UiT:MAILTO:amalie.h.andersen@uit.no
LOCATION:https://uit.no/ansatte/person?p_document_id=791766&amp;p_...
DESCRIPTION:Troms&oslash;
BEGIN:VALARM
TRIGGER:-PT15M
REPEAT:1
DURATION:PT15M
ACTION:DISPLAY
DESCRIPTION:Reminder
END:VALARM
END:VEVENT
END:VCALENDAR
