BEGIN:VCALENDAR
VERSION:2.0
PRODID:-//UiT//iKnowBase//NO
CALSCALE:GREGORIAN
METHOD:PUBLISH
BEGIN:VEVENT
SUMMARY:Gradsseremoni / Degree Ceremony - UiT i Narvik
UID:1776748774619-807455@uit.no
SEQUENCE:0
STATUS:CONFIRMED
TRANSP:OPAQUE
DTSTART:20230601T143000
DTEND:20230601T170000
DTSTAMP:20230601T170000
ORGANIZER;CN=UiT:MAILTO:tine.e.bendiksen@uit.no
LOCATION:https://uit.no/go/target/807455
DESCRIPTION:Narvik
BEGIN:VALARM
TRIGGER:-PT15M
REPEAT:1
DURATION:PT15M
ACTION:DISPLAY
DESCRIPTION:Reminder
END:VALARM
END:VEVENT
END:VCALENDAR
