BEGIN:VCALENDAR
VERSION:2.0
PRODID:-//UiT//iKnowBase//NO
CALSCALE:GREGORIAN
METHOD:PUBLISH
BEGIN:VEVENT
SUMMARY:Bevisste utdanningsvalg – hvorfor fremme utradisjonelle ...
UID:1776748773937-803600@uit.no
SEQUENCE:0
STATUS:CONFIRMED
TRANSP:OPAQUE
DTSTART:20230509T103000
DTEND:20230510T120000
DTSTAMP:20230510T120000
ORGANIZER;CN=UiT:MAILTO:astri.c.prytz@uit.no
LOCATION:https://uit.no/go/target/803600
DESCRIPTION:Troms&oslash;
BEGIN:VALARM
TRIGGER:-PT15M
REPEAT:1
DURATION:PT15M
ACTION:DISPLAY
DESCRIPTION:Reminder
END:VALARM
END:VEVENT
END:VCALENDAR
