BEGIN:VCALENDAR
VERSION:2.0
PRODID:-//UiT//iKnowBase//NO
CALSCALE:GREGORIAN
METHOD:PUBLISH
BEGIN:VEVENT
SUMMARY:Feminist Debates on Ecological Destructions and ...
UID:1777045805573-802884@uit.no
SEQUENCE:0
STATUS:CONFIRMED
TRANSP:OPAQUE
DTSTART:20230302T094500
DTEND:20230303T121500
DTSTAMP:20230303T121500
ORGANIZER;CN=UiT:MAILTO:aynur.ozugurlu@uit.no
LOCATION:https://uit.no/go/target/802884
DESCRIPTION:Troms&oslash;
BEGIN:VALARM
TRIGGER:-PT15M
REPEAT:1
DURATION:PT15M
ACTION:DISPLAY
DESCRIPTION:Reminder
END:VALARM
END:VEVENT
END:VCALENDAR
