BEGIN:VCALENDAR
VERSION:2.0
PRODID:-//UiT//iKnowBase//NO
CALSCALE:GREGORIAN
METHOD:PUBLISH
BEGIN:VEVENT
SUMMARY:Pedagogikk i barnehagelærerutdanningen - Barnehagefaglig...
UID:1776748694016-802240@uit.no
SEQUENCE:0
STATUS:CONFIRMED
TRANSP:OPAQUE
DTSTART:20231101T090000
DTEND:20231102T130000
DTSTAMP:20231102T130000
ORGANIZER;CN=UiT:MAILTO:Sidsel.boldermo@uit.no
LOCATION:https://uit.no/go/target/802240
DESCRIPTION:Troms&oslash;
BEGIN:VALARM
TRIGGER:-PT15M
REPEAT:1
DURATION:PT15M
ACTION:DISPLAY
DESCRIPTION:Reminder
END:VALARM
END:VEVENT
END:VCALENDAR
