BEGIN:VCALENDAR
VERSION:2.0
PRODID:-//UiT//iKnowBase//NO
CALSCALE:GREGORIAN
METHOD:PUBLISH
BEGIN:VEVENT
SUMMARY:Samtalepanel "Fortid og historie som skaper kunst om ...
UID:1776679718442-801265@uit.no
SEQUENCE:0
STATUS:CONFIRMED
TRANSP:OPAQUE
DTSTART:20230208T103000
DTEND:20230208T113000
DTSTAMP:20230208T113000
ORGANIZER;CN=UiT:MAILTO:julia.bobina@uit.no
LOCATION:https://uit.no/go/target/801265
DESCRIPTION:Alta
BEGIN:VALARM
TRIGGER:-PT15M
REPEAT:1
DURATION:PT15M
ACTION:DISPLAY
DESCRIPTION:Reminder
END:VALARM
END:VEVENT
END:VCALENDAR
