BEGIN:VCALENDAR
VERSION:2.0
PRODID:-//UiT//iKnowBase//NO
CALSCALE:GREGORIAN
METHOD:PUBLISH
BEGIN:VEVENT
SUMMARY:Kognitiv atferdsterapi for barn og unge: Bedre tilgang, ...
UID:1776748782941-794987@uit.no
SEQUENCE:0
STATUS:CONFIRMED
TRANSP:OPAQUE
DTSTART:20230607T130000
DTEND:20230609T154500
DTSTAMP:20230609T154500
ORGANIZER;CN=UiT:MAILTO:postmottak@uit.no
LOCATION:https://uit.no/go/target/794987
DESCRIPTION:Digitalt, Troms&oslash;
BEGIN:VALARM
TRIGGER:-PT15M
REPEAT:1
DURATION:PT15M
ACTION:DISPLAY
DESCRIPTION:Reminder
END:VALARM
END:VEVENT
END:VCALENDAR
