BEGIN:VCALENDAR
VERSION:2.0
PRODID:-//UiT//iKnowBase//NO
CALSCALE:GREGORIAN
METHOD:PUBLISH
BEGIN:VEVENT
SUMMARY:Hvordan leve på et stramt studentbudsjett? – med ...
UID:1776604674992-789123@uit.no
SEQUENCE:0
STATUS:CONFIRMED
TRANSP:OPAQUE
DTSTART:20221011T130000
DTEND:20221011T134500
DTSTAMP:20221011T134500
ORGANIZER;CN=UiT:MAILTO:nils.e.lindhult@uit.no
LOCATION:https://uit.no/go/target/789123
DESCRIPTION:Troms&oslash;
BEGIN:VALARM
TRIGGER:-PT15M
REPEAT:1
DURATION:PT15M
ACTION:DISPLAY
DESCRIPTION:Reminder
END:VALARM
END:VEVENT
END:VCALENDAR
