BEGIN:VCALENDAR
VERSION:2.0
PRODID:-//UiT//iKnowBase//NO
CALSCALE:GREGORIAN
METHOD:PUBLISH
BEGIN:VEVENT
SUMMARY:Nordic Social Pharmacy Conference 2023 Tromsø, Norway
UID:1776996051817-778767@uit.no
SEQUENCE:0
STATUS:CONFIRMED
TRANSP:OPAQUE
DTSTART:20230607T091500
DTEND:20230609T150000
DTSTAMP:20230609T150000
ORGANIZER;CN=UiT:MAILTO:post.NSPC23@uit.no
LOCATION:https://uit.no/go/target/778767
DESCRIPTION:Troms&oslash;
BEGIN:VALARM
TRIGGER:-PT15M
REPEAT:1
DURATION:PT15M
ACTION:DISPLAY
DESCRIPTION:Reminder
END:VALARM
END:VEVENT
END:VCALENDAR
