BEGIN:VCALENDAR
VERSION:2.0
PRODID:-//UiT//iKnowBase//NO
CALSCALE:GREGORIAN
METHOD:PUBLISH
BEGIN:VEVENT
SUMMARY:Prøveforelesning - Master Sigridur Mjöll Björnsdottir
UID:1777145903188-745012@uit.no
SEQUENCE:0
STATUS:CONFIRMED
TRANSP:OPAQUE
DTSTART:20210920T141500
DTEND:20210920T150000
DTSTAMP:20210920T150000
ORGANIZER;CN=UiT:MAILTO:kari.t.guldahl@uit.no
LOCATION:https://uit.no/go/target/745012
DESCRIPTION:Digitalt, Troms&oslash;
BEGIN:VALARM
TRIGGER:-PT15M
REPEAT:1
DURATION:PT15M
ACTION:DISPLAY
DESCRIPTION:Reminder
END:VALARM
END:VEVENT
END:VCALENDAR
