BEGIN:VCALENDAR
VERSION:2.0
PRODID:-//UiT//iKnowBase//NO
CALSCALE:GREGORIAN
METHOD:PUBLISH
BEGIN:VEVENT
SUMMARY:Møte med Skogfinneforeningen
UID:1776877511296-740811@uit.no
SEQUENCE:0
STATUS:CONFIRMED
TRANSP:OPAQUE
DTSTART:20210903T163000
DTEND:20210903T173000
DTSTAMP:20210903T173000
ORGANIZER;CN=UiT:MAILTO:inger.e.utsi@uit.no
LOCATION:https://uit.no/go/target/740811
DESCRIPTION:Annet
BEGIN:VALARM
TRIGGER:-PT15M
REPEAT:1
DURATION:PT15M
ACTION:DISPLAY
DESCRIPTION:Reminder
END:VALARM
END:VEVENT
END:VCALENDAR
