BEGIN:VCALENDAR
VERSION:2.0
PRODID:-//UiT//iKnowBase//NO
CALSCALE:GREGORIAN
METHOD:PUBLISH
BEGIN:VEVENT
SUMMARY:NORPART - cooperation with the global south - ...
UID:1777019182228-731075@uit.no
SEQUENCE:0
STATUS:CONFIRMED
TRANSP:OPAQUE
DTSTART:20210520T111500
DTEND:20210520T123000
DTSTAMP:20210520T123000
ORGANIZER;CN=UiT:MAILTO:hege.k.widnes@uit.no
LOCATION:https://uit.no/go/target/731075
DESCRIPTION:Digitalt
BEGIN:VALARM
TRIGGER:-PT15M
REPEAT:1
DURATION:PT15M
ACTION:DISPLAY
DESCRIPTION:Reminder
END:VALARM
END:VEVENT
END:VCALENDAR
