BEGIN:VCALENDAR
VERSION:2.0
PRODID:-//UiT//iKnowBase//NO
CALSCALE:GREGORIAN
METHOD:PUBLISH
BEGIN:VEVENT
SUMMARY:Studiestart Tresemester og Yvei Høst 2021
UID:1776877511354-725510@uit.no
SEQUENCE:0
STATUS:CONFIRMED
TRANSP:OPAQUE
DTSTART:20210719T090000
DTEND:20210719T113000
DTSTAMP:20210719T113000
ORGANIZER;CN=UiT:MAILTO:arlene.hall@uit.no
LOCATION:https://uit.no/go/target/725510
DESCRIPTION:Digitalt, Narvik
BEGIN:VALARM
TRIGGER:-PT15M
REPEAT:1
DURATION:PT15M
ACTION:DISPLAY
DESCRIPTION:Reminder
END:VALARM
END:VEVENT
END:VCALENDAR
