BEGIN:VCALENDAR
VERSION:2.0
PRODID:-//UiT//iKnowBase//NO
CALSCALE:GREGORIAN
METHOD:PUBLISH
BEGIN:VEVENT
SUMMARY:Tobias Vonnahme
UID:1777140478983-720430@uit.no
SEQUENCE:0
STATUS:CONFIRMED
TRANSP:OPAQUE
DTSTART:20210311T101500
DTEND:20210311T140000
DTSTAMP:20210311T140000
ORGANIZER;CN=UiT:MAILTO:ingjerd.nilsen@uit.no
LOCATION:https://uit.no/go/target/720430
DESCRIPTION:Digitalt
BEGIN:VALARM
TRIGGER:-PT15M
REPEAT:1
DURATION:PT15M
ACTION:DISPLAY
DESCRIPTION:Reminder
END:VALARM
END:VEVENT
END:VCALENDAR
