BEGIN:VCALENDAR
VERSION:2.0
PRODID:-//UiT//iKnowBase//NO
CALSCALE:GREGORIAN
METHOD:PUBLISH
BEGIN:VEVENT
SUMMARY:Prøveforelesning - MSc in Biology and in Molecular ...
UID:1776970471380-705625@uit.no
SEQUENCE:0
STATUS:CONFIRMED
TRANSP:OPAQUE
DTSTART:20201106T101500
DTEND:20201106T110000
DTSTAMP:20201106T110000
ORGANIZER;CN=UiT:MAILTO:ingjerd.nilsen@uit.no
LOCATION:https://uit.no/go/target/705625
DESCRIPTION:Digitalt, Troms&oslash;
BEGIN:VALARM
TRIGGER:-PT15M
REPEAT:1
DURATION:PT15M
ACTION:DISPLAY
DESCRIPTION:Reminder
END:VALARM
END:VEVENT
END:VCALENDAR
