BEGIN:VCALENDAR
VERSION:2.0
PRODID:-//UiT//iKnowBase//NO
CALSCALE:GREGORIAN
METHOD:PUBLISH
BEGIN:VEVENT
SUMMARY:Exhibition: Post-Exit (The Gardens of Liminality)
UID:1776601916379-700368@uit.no
SEQUENCE:0
STATUS:CONFIRMED
TRANSP:OPAQUE
DTSTART:20201003T110000
DTEND:20201003T170000
DTSTAMP:20201003T170000
ORGANIZER;CN=UiT:MAILTO:postmottak@uit.no
LOCATION:https://uit.no/go/target/700368
DESCRIPTION:Troms&oslash;
BEGIN:VALARM
TRIGGER:-PT15M
REPEAT:1
DURATION:PT15M
ACTION:DISPLAY
DESCRIPTION:Reminder
END:VALARM
END:VEVENT
END:VCALENDAR
