BEGIN:VCALENDAR
VERSION:2.0
PRODID:-//UiT//iKnowBase//NO
CALSCALE:GREGORIAN
METHOD:PUBLISH
BEGIN:VEVENT
SUMMARY:Disputas: Arve Hansen, institutt for språk og kultur
UID:1776603096714-668784@uit.no
SEQUENCE:0
STATUS:CONFIRMED
TRANSP:OPAQUE
DTSTART:20200317T111500
DTEND:20200317T150000
DTSTAMP:20200317T150000
ORGANIZER;CN=UiT:MAILTO:kari.t.guldahl@uit.no
LOCATION:https://uit.no/go/target/668784
DESCRIPTION:Troms&oslash;
BEGIN:VALARM
TRIGGER:-PT15M
REPEAT:1
DURATION:PT15M
ACTION:DISPLAY
DESCRIPTION:Reminder
END:VALARM
END:VEVENT
END:VCALENDAR
