BEGIN:VCALENDAR
VERSION:2.0
PRODID:-//UiT//iKnowBase//NO
CALSCALE:GREGORIAN
METHOD:PUBLISH
BEGIN:VEVENT
SUMMARY:Research data management at UiT: An introduction (Skype)
UID:1776954623976-659706@uit.no
SEQUENCE:0
STATUS:CONFIRMED
TRANSP:OPAQUE
DTSTART:20200421T131500
DTEND:20200421T140000
DTSTAMP:20200421T140000
ORGANIZER;CN=UiT:MAILTO:research-data@support.uit.no
LOCATION:https://uit.no/go/target/659706
DESCRIPTION:Troms&oslash;
BEGIN:VALARM
TRIGGER:-PT15M
REPEAT:1
DURATION:PT15M
ACTION:DISPLAY
DESCRIPTION:Reminder
END:VALARM
END:VEVENT
END:VCALENDAR
