BEGIN:VCALENDAR
VERSION:2.0
PRODID:-//UiT//iKnowBase//NO
CALSCALE:GREGORIAN
METHOD:PUBLISH
BEGIN:VEVENT
SUMMARY:Climate Change and the transition to a zero-emisson ...
UID:1777029072958-627142@uit.no
SEQUENCE:0
STATUS:CONFIRMED
TRANSP:OPAQUE
DTSTART:20190604T090000
DTEND:20190604T100000
DTSTAMP:20190604T100000
ORGANIZER;CN=UiT:MAILTO:kathrine.tveiteras@uit.no
LOCATION:https://uit.no/go/target/627142
DESCRIPTION:Troms&oslash;
BEGIN:VALARM
TRIGGER:-PT15M
REPEAT:1
DURATION:PT15M
ACTION:DISPLAY
DESCRIPTION:Reminder
END:VALARM
END:VEVENT
END:VCALENDAR
