BEGIN:VCALENDAR
VERSION:2.0
PRODID:-//UiT//iKnowBase//NO
CALSCALE:GREGORIAN
METHOD:PUBLISH
BEGIN:VEVENT
SUMMARY:Hvordan dele forskningsdata (Skype)
UID:1777136180990-613212@uit.no
SEQUENCE:0
STATUS:CONFIRMED
TRANSP:OPAQUE
DTSTART:20190226T101500
DTEND:20190226T110000
DTSTAMP:20190226T110000
ORGANIZER;CN=UiT:MAILTO:research-data@support.uit.no
LOCATION:https://uit.no/go/target/613212
DESCRIPTION:Troms&oslash;, Digitalt
BEGIN:VALARM
TRIGGER:-PT15M
REPEAT:1
DURATION:PT15M
ACTION:DISPLAY
DESCRIPTION:Reminder
END:VALARM
END:VEVENT
END:VCALENDAR
