BEGIN:VCALENDAR
VERSION:2.0
PRODID:-//UiT//iKnowBase//NO
CALSCALE:GREGORIAN
METHOD:PUBLISH
BEGIN:VEVENT
SUMMARY: Film "Changa Revisited" (Research seminar in anthropology)
UID:1776877511293-597111@uit.no
SEQUENCE:0
STATUS:CONFIRMED
TRANSP:OPAQUE
DTSTART:20181012T101500
DTEND:20181012T120000
DTSTAMP:20181012T120000
ORGANIZER;CN=UiT:MAILTO:petia.mankova@uit.no
LOCATION:https://uit.no/go/target/597111
DESCRIPTION:Troms&oslash;
BEGIN:VALARM
TRIGGER:-PT15M
REPEAT:1
DURATION:PT15M
ACTION:DISPLAY
DESCRIPTION:Reminder
END:VALARM
END:VEVENT
END:VCALENDAR
