BEGIN:VCALENDAR
VERSION:2.0
PRODID:-//UiT//iKnowBase//NO
CALSCALE:GREGORIAN
METHOD:PUBLISH
BEGIN:VEVENT
SUMMARY:Trodde Du/Did you think? (Tromsø)
UID:1776603095549-593297@uit.no
SEQUENCE:0
STATUS:CONFIRMED
TRANSP:OPAQUE
DTSTART:20180929T123000
DTEND:20181013T160000
DTSTAMP:20181013T160000
ORGANIZER;CN=UiT:MAILTO:kathrin.hopmann@uit.no
LOCATION:http://uit.no/50/trodde-du
DESCRIPTION:Troms&oslash;
BEGIN:VALARM
TRIGGER:-PT15M
REPEAT:1
DURATION:PT15M
ACTION:DISPLAY
DESCRIPTION:Reminder
END:VALARM
END:VEVENT
END:VCALENDAR
