BEGIN:VCALENDAR
VERSION:2.0
PRODID:-//UiT//iKnowBase//NO
CALSCALE:GREGORIAN
METHOD:PUBLISH
BEGIN:VEVENT
SUMMARY:Nettskjema som et forskningsverktøy
UID:1777049416913-575148@uit.no
SEQUENCE:0
STATUS:CONFIRMED
TRANSP:OPAQUE
DTSTART:20180531T121500
DTEND:20180531T151500
DTSTAMP:20180531T151500
ORGANIZER;CN=UiT:MAILTO:it-sdu-nettskjema@support.uit.no
LOCATION:https://uit.no/go/target/575148
DESCRIPTION:Troms&oslash;
BEGIN:VALARM
TRIGGER:-PT15M
REPEAT:1
DURATION:PT15M
ACTION:DISPLAY
DESCRIPTION:Reminder
END:VALARM
END:VEVENT
END:VCALENDAR
