BEGIN:VCALENDAR
VERSION:2.0
PRODID:-//UiT//iKnowBase//NO
CALSCALE:GREGORIAN
METHOD:PUBLISH
BEGIN:VEVENT
SUMMARY:Introduksjonskurs om Amnesty​ og menneskerettigheter
UID:1776603095915-570206@uit.no
SEQUENCE:0
STATUS:CONFIRMED
TRANSP:OPAQUE
DTSTART:20180410T120000
DTEND:20180410T160000
DTSTAMP:20180410T160000
ORGANIZER;CN=UiT:MAILTO:ogs@amnesty.no
LOCATION:https://no.surveymonkey.com/r/KJDL9RS
DESCRIPTION:Troms&oslash;
BEGIN:VALARM
TRIGGER:-PT15M
REPEAT:1
DURATION:PT15M
ACTION:DISPLAY
DESCRIPTION:Reminder
END:VALARM
END:VEVENT
END:VCALENDAR
