BEGIN:VCALENDAR
VERSION:2.0
PRODID:-//UiT//iKnowBase//NO
CALSCALE:GREGORIAN
METHOD:PUBLISH
BEGIN:VEVENT
SUMMARY:Is Envy & Frustration Stealing Your Happiness?
UID:1776610798315-534758@uit.no
SEQUENCE:0
STATUS:CONFIRMED
TRANSP:OPAQUE
DTSTART:20170915T180000
DTEND:20170915T200000
DTSTAMP:20170915T200000
ORGANIZER;CN=UiT:MAILTO:tromsomeditasjon@gmail.com
LOCATION:https://www.facebook.com/events/1329513907147272/?acontex...
DESCRIPTION:Troms&oslash;
BEGIN:VALARM
TRIGGER:-PT15M
REPEAT:1
DURATION:PT15M
ACTION:DISPLAY
DESCRIPTION:Reminder
END:VALARM
END:VEVENT
END:VCALENDAR
