BEGIN:VCALENDAR
VERSION:2.0
PRODID:-//UiT//iKnowBase//NO
CALSCALE:GREGORIAN
METHOD:PUBLISH
BEGIN:VEVENT
SUMMARY:Rewinding Madame Lisbet
UID:1777118830006-518614@uit.no
SEQUENCE:0
STATUS:CONFIRMED
TRANSP:OPAQUE
DTSTART:20170602T093000
DTEND:20170602T170000
DTSTAMP:20170602T170000
ORGANIZER;CN=UiT:MAILTO:bjorn.arntsen@uit.no
LOCATION:https://uit.no/go/target/518614
DESCRIPTION:Troms&oslash;
BEGIN:VALARM
TRIGGER:-PT15M
REPEAT:1
DURATION:PT15M
ACTION:DISPLAY
DESCRIPTION:Reminder
END:VALARM
END:VEVENT
END:VCALENDAR
