BEGIN:VCALENDAR
VERSION:2.0
PRODID:-//UiT//iKnowBase//NO
CALSCALE:GREGORIAN
METHOD:PUBLISH
BEGIN:VEVENT
SUMMARY:Selvtillitsgruppe - ledige plasser, meld deg på nå!
UID:1776700175558-486098@uit.no
SEQUENCE:0
STATUS:CONFIRMED
TRANSP:OPAQUE
DTSTART:20161004T140000
DTEND:20161108T000000
DTSTAMP:20161108T000000
ORGANIZER;CN=UiT:MAILTO:radgiving@samskipnaden.no
LOCATION:http://samskipnaden.no/tromso/helse/grupper-og-kurs
DESCRIPTION:Troms&oslash;
BEGIN:VALARM
TRIGGER:-PT15M
REPEAT:1
DURATION:PT15M
ACTION:DISPLAY
DESCRIPTION:Reminder
END:VALARM
END:VEVENT
END:VCALENDAR
